BEGIN:VCALENDAR
VERSION:2.0
PRODID:icalendar-ruby
CALSCALE:GREGORIAN
METHOD:PUBLISH
BEGIN:VEVENT
DTSTAMP:20260420T063430Z
UID:16-1414622@gracelakeland.com
DTSTART:20240901T140000Z
DTEND:20240901T150000Z
CLASS:PUBLIC
CREATED:20260420T012916
DESCRIPTION:Fourth Sunday of Easter\nApril 26\, 2026\nWorship will be held 
 at 10:00 a.m. in our Sanctuary.\nThe service will be broadcast live \non o
 ur Facebook page\, YouTube channel\, and our Website\, \nand will be avail
 able on all for later viewing.\nhttps://gracelakeland.com/live/\nhttps://w
 ww.youtube.com/@gracelakeland/streams\nhttps://www.facebook.com/churchgrac
 elakeland\n  On our website\, the order of service \ncan be followed next
  to the video \nby scrolling down the sidebar on the right.\n \n 
LAST-MODIFIED:20260420T012916
LOCATION:
SUMMARY:Sunday Morning Worship 
URL;VALUE=URI:https://www.gracelakeland.com/events/sunday-morning-worship--
 16/2024-09-01
ATTACH;FILENAME=Altar-white-2.jpg;FMTTYPE=image/jpeg:https://dq5pwpg1q8ru0.
 cloudfront.net/2026/04/04/04/23/43/25e2b735-83c9-4bd8-bb66-d9960835d4cc/Al
 tar-white-2.jpg
END:VEVENT
END:VCALENDAR
