BEGIN:VCALENDAR
VERSION:2.0
PRODID:icalendar-ruby
CALSCALE:GREGORIAN
METHOD:PUBLISH
BEGIN:VEVENT
DTSTAMP:20260424T152209Z
UID:107-1433751@gracelakeland.com
DTSTART:20260605T233000Z
DTEND:20260606T010000Z
CLASS:PUBLIC
CREATED:20260424T000300
DESCRIPTION:Game Night\nFriends\, faith\, and fun unite! \nThe first Friday
  of every month is Game Night at Grace\, hosted in the Fellowship Hall at 
 7:30 p.m. All are welcome\, and encouraged to bring friends and family alo
 ng. Board games\, card games\, role-playing games\, and more.\nLight refre
 shments will be provided. We look forward to seeing you there!
LAST-MODIFIED:20260424T000300
LOCATION:Fellowship Hall
SUMMARY:Game Night
URL;VALUE=URI:https://www.gracelakeland.com/events/game-night/2026-06-05
ATTACH;FILENAME=Game-Night.png;FMTTYPE=image/png:https://dq5pwpg1q8ru0.clou
 dfront.net/2025/07/30/20/11/43/5f4b09b7-c562-4b1d-a058-08f31b010482/Game-N
 ight.png
END:VEVENT
END:VCALENDAR
